BEGIN:VCALENDAR
VERSION:2.0
PRODID:-//Syndicat apicole du Doubs - ECPv6.15.20//NONSGML v1.0//EN
CALSCALE:GREGORIAN
METHOD:PUBLISH
X-ORIGINAL-URL:https://www.sadapi25.fr
X-WR-CALDESC:Évènements pour Syndicat apicole du Doubs
REFRESH-INTERVAL;VALUE=DURATION:PT1H
X-Robots-Tag:noindex
X-PUBLISHED-TTL:PT1H
BEGIN:VTIMEZONE
TZID:Europe/Paris
BEGIN:DAYLIGHT
TZOFFSETFROM:+0100
TZOFFSETTO:+0200
TZNAME:CEST
DTSTART:20220327T010000
END:DAYLIGHT
BEGIN:STANDARD
TZOFFSETFROM:+0200
TZOFFSETTO:+0100
TZNAME:CET
DTSTART:20221030T010000
END:STANDARD
BEGIN:DAYLIGHT
TZOFFSETFROM:+0100
TZOFFSETTO:+0200
TZNAME:CEST
DTSTART:20230326T010000
END:DAYLIGHT
BEGIN:STANDARD
TZOFFSETFROM:+0200
TZOFFSETTO:+0100
TZNAME:CET
DTSTART:20231029T010000
END:STANDARD
BEGIN:DAYLIGHT
TZOFFSETFROM:+0100
TZOFFSETTO:+0200
TZNAME:CEST
DTSTART:20240331T010000
END:DAYLIGHT
BEGIN:STANDARD
TZOFFSETFROM:+0200
TZOFFSETTO:+0100
TZNAME:CET
DTSTART:20241027T010000
END:STANDARD
END:VTIMEZONE
BEGIN:VEVENT
DTSTART;TZID=Europe/Paris:20230513T140000
DTEND;TZID=Europe/Paris:20230513T170000
DTSTAMP:20260421T103106
CREATED:20230206T172111Z
LAST-MODIFIED:20230324T140412Z
UID:386-1683986400-1683997200@www.sadapi25.fr
SUMMARY:Cours apiculture débutant #8
DESCRIPTION:– Essaimage artificiel (suite) et pose de hausses.– Suivi des colonies.Animateurs Michel MESNIER\, Alain PICARD\, Bernard TAVERDET\, Jean-Bernard ARBEZ\, Gérard SIMPLOT\, Martine EHRET\, Daniel JOURNOT\, support G VAUTHENY.
URL:https://www.sadapi25.fr/evenement/cours-apiculture-debutant-8/
LOCATION:Maison de l’apiculture\, 90 Chemin des Montarmots\, Besançon\, 25000\, France
CATEGORIES:Cours débutant
END:VEVENT
END:VCALENDAR