BEGIN:VCALENDAR
VERSION:2.0
PRODID:-//Syndicat apicole du Doubs - ECPv6.15.20//NONSGML v1.0//EN
CALSCALE:GREGORIAN
METHOD:PUBLISH
X-ORIGINAL-URL:https://www.sadapi25.fr
X-WR-CALDESC:Évènements pour Syndicat apicole du Doubs
REFRESH-INTERVAL;VALUE=DURATION:PT1H
X-Robots-Tag:noindex
X-PUBLISHED-TTL:PT1H
BEGIN:VTIMEZONE
TZID:Europe/Paris
BEGIN:DAYLIGHT
TZOFFSETFROM:+0100
TZOFFSETTO:+0200
TZNAME:CEST
DTSTART:20220327T010000
END:DAYLIGHT
BEGIN:STANDARD
TZOFFSETFROM:+0200
TZOFFSETTO:+0100
TZNAME:CET
DTSTART:20221030T010000
END:STANDARD
BEGIN:DAYLIGHT
TZOFFSETFROM:+0100
TZOFFSETTO:+0200
TZNAME:CEST
DTSTART:20230326T010000
END:DAYLIGHT
BEGIN:STANDARD
TZOFFSETFROM:+0200
TZOFFSETTO:+0100
TZNAME:CET
DTSTART:20231029T010000
END:STANDARD
BEGIN:DAYLIGHT
TZOFFSETFROM:+0100
TZOFFSETTO:+0200
TZNAME:CEST
DTSTART:20240331T010000
END:DAYLIGHT
BEGIN:STANDARD
TZOFFSETFROM:+0200
TZOFFSETTO:+0100
TZNAME:CET
DTSTART:20241027T010000
END:STANDARD
END:VTIMEZONE
BEGIN:VEVENT
DTSTART;TZID=Europe/Paris:20230603T083000
DTEND;TZID=Europe/Paris:20230603T170000
DTSTAMP:20260421T084507
CREATED:20230206T172228Z
LAST-MODIFIED:20230324T140425Z
UID:388-1685781000-1685811600@www.sadapi25.fr
SUMMARY:Cours apiculture débutant #9
DESCRIPTION:Journée spéciale8h30 – Transhumance\, l’été des abeilles. Récolte de miel.12h30 – Dégustation d’hydromel\, pain d’épices – Repas tiré du panier.14h00 – Extraction – analyse. Puis tous les animateurs et participants pour faire le point sur les cours dispensés.Animateurs Michel MESNIER\, Alain PICARD\, Bernard TAVERDET\, Jean-Bernard ARBEZ\, Gérard SIMPLOT\, Martine EHRET\, Daniel JOURNOT\, support G VAUTHENY.
URL:https://www.sadapi25.fr/evenement/cours-apiculture-debutant-9/
LOCATION:Maison de l’apiculture\, 90 Chemin des Montarmots\, Besançon\, 25000\, France
CATEGORIES:Cours débutant
END:VEVENT
END:VCALENDAR