BEGIN:VCALENDAR
VERSION:2.0
PRODID:-//Syndicat apicole du Doubs - ECPv6.15.20//NONSGML v1.0//EN
CALSCALE:GREGORIAN
METHOD:PUBLISH
X-ORIGINAL-URL:https://www.sadapi25.fr
X-WR-CALDESC:Évènements pour Syndicat apicole du Doubs
REFRESH-INTERVAL;VALUE=DURATION:PT1H
X-Robots-Tag:noindex
X-PUBLISHED-TTL:PT1H
BEGIN:VTIMEZONE
TZID:Europe/Paris
BEGIN:DAYLIGHT
TZOFFSETFROM:+0100
TZOFFSETTO:+0200
TZNAME:CEST
DTSTART:20230326T010000
END:DAYLIGHT
BEGIN:STANDARD
TZOFFSETFROM:+0200
TZOFFSETTO:+0100
TZNAME:CET
DTSTART:20231029T010000
END:STANDARD
BEGIN:DAYLIGHT
TZOFFSETFROM:+0100
TZOFFSETTO:+0200
TZNAME:CEST
DTSTART:20240331T010000
END:DAYLIGHT
BEGIN:STANDARD
TZOFFSETFROM:+0200
TZOFFSETTO:+0100
TZNAME:CET
DTSTART:20241027T010000
END:STANDARD
BEGIN:DAYLIGHT
TZOFFSETFROM:+0100
TZOFFSETTO:+0200
TZNAME:CEST
DTSTART:20250330T010000
END:DAYLIGHT
BEGIN:STANDARD
TZOFFSETFROM:+0200
TZOFFSETTO:+0100
TZNAME:CET
DTSTART:20251026T010000
END:STANDARD
END:VTIMEZONE
BEGIN:VEVENT
DTSTART;TZID=Europe/Paris:20240309T090000
DTEND;TZID=Europe/Paris:20240309T170000
DTSTAMP:20260420T181213
CREATED:20240112T155059Z
LAST-MODIFIED:20240112T155100Z
UID:1170-1709974800-1710003600@www.sadapi25.fr
SUMMARY:Cours apiculteur débutant #4
DESCRIPTION:Journée spéciale : \n\n\n\n\nde 9h à 12h.– Préparation du matériel (cadres\, hausses …) en vue d’une saison apicole.Michel MESNIER\, Alain PICARD\, Bernard TAVERDET\, Jean-Bernard ARBEZ\, Gérard SIMPLOT\, Martine EHRET\, support G VAUTHENY.\n\n\n\n12 h : repas tiré du panier\n\n\n\n14h à 17h.– Calendrier des travaux apicoles : visite de printemps\, essaimage\, stimulation\, divisions\, pose de hausses\, récolte\, transhumance\, hivernage\, flore mellifère (Alain PICARD et Guy RENAUD).– L’apiculture biologique.– L’apiculture pro.– Prédateurs\, maladies des abeilles et du couvain (Gérard SIMPLOT).Support : G VAUTHENY.
URL:https://www.sadapi25.fr/evenement/cours-apiculteur-debutant-4/
LOCATION:Maison de l’apiculture\, 90 Chemin des Montarmots\, Besançon\, 25000\, France
CATEGORIES:Cours débutant
END:VEVENT
END:VCALENDAR