BEGIN:VCALENDAR
VERSION:2.0
PRODID:-//Syndicat apicole du Doubs - ECPv6.15.20//NONSGML v1.0//EN
CALSCALE:GREGORIAN
METHOD:PUBLISH
X-WR-CALNAME:Syndicat apicole du Doubs
X-ORIGINAL-URL:https://www.sadapi25.fr
X-WR-CALDESC:Évènements pour Syndicat apicole du Doubs
REFRESH-INTERVAL;VALUE=DURATION:PT1H
X-Robots-Tag:noindex
X-PUBLISHED-TTL:PT1H
BEGIN:VTIMEZONE
TZID:Europe/Paris
BEGIN:DAYLIGHT
TZOFFSETFROM:+0100
TZOFFSETTO:+0200
TZNAME:CEST
DTSTART:20250330T010000
END:DAYLIGHT
BEGIN:STANDARD
TZOFFSETFROM:+0200
TZOFFSETTO:+0100
TZNAME:CET
DTSTART:20251026T010000
END:STANDARD
BEGIN:DAYLIGHT
TZOFFSETFROM:+0100
TZOFFSETTO:+0200
TZNAME:CEST
DTSTART:20260329T010000
END:DAYLIGHT
BEGIN:STANDARD
TZOFFSETFROM:+0200
TZOFFSETTO:+0100
TZNAME:CET
DTSTART:20261025T010000
END:STANDARD
BEGIN:DAYLIGHT
TZOFFSETFROM:+0100
TZOFFSETTO:+0200
TZNAME:CEST
DTSTART:20270328T010000
END:DAYLIGHT
BEGIN:STANDARD
TZOFFSETFROM:+0200
TZOFFSETTO:+0100
TZNAME:CET
DTSTART:20271031T010000
END:STANDARD
END:VTIMEZONE
BEGIN:VEVENT
DTSTART;TZID=Europe/Paris:20261009T200000
DTEND;TZID=Europe/Paris:20261009T220000
DTSTAMP:20260420T102712
CREATED:20260413T080238Z
LAST-MODIFIED:20260413T080240Z
UID:2422-1791576000-1791583200@www.sadapi25.fr
SUMMARY:Conférence : les conséquences du changement climatique sur les pollinisateurs 
DESCRIPTION:Dans le cadre du cycle de conférences « Sauvons nos pollinisateurs : abeilles et autres pollinisateurs sauvages » \n\n\n\nNous vous invitons à la dernière conférence ouverte à tous : avec Daniel Gilbert  « les conséquences du changement climatique sur les pollinisateurs » \n\n\n\nà Gilley
URL:https://www.sadapi25.fr/evenement/conference-les-consequences-du-changement-climatique-sur-les-pollinisateurs/
CATEGORIES:Grand-public
END:VEVENT
END:VCALENDAR