BEGIN:VCALENDAR
VERSION:2.0
PRODID:-//Syndicat apicole du Doubs - ECPv6.15.20//NONSGML v1.0//EN
CALSCALE:GREGORIAN
METHOD:PUBLISH
X-ORIGINAL-URL:https://www.sadapi25.fr
X-WR-CALDESC:Évènements pour Syndicat apicole du Doubs
REFRESH-INTERVAL;VALUE=DURATION:PT1H
X-Robots-Tag:noindex
X-PUBLISHED-TTL:PT1H
BEGIN:VTIMEZONE
TZID:Europe/Paris
BEGIN:DAYLIGHT
TZOFFSETFROM:+0100
TZOFFSETTO:+0200
TZNAME:CEST
DTSTART:20220327T010000
END:DAYLIGHT
BEGIN:STANDARD
TZOFFSETFROM:+0200
TZOFFSETTO:+0100
TZNAME:CET
DTSTART:20221030T010000
END:STANDARD
BEGIN:DAYLIGHT
TZOFFSETFROM:+0100
TZOFFSETTO:+0200
TZNAME:CEST
DTSTART:20230326T010000
END:DAYLIGHT
BEGIN:STANDARD
TZOFFSETFROM:+0200
TZOFFSETTO:+0100
TZNAME:CET
DTSTART:20231029T010000
END:STANDARD
BEGIN:DAYLIGHT
TZOFFSETFROM:+0100
TZOFFSETTO:+0200
TZNAME:CEST
DTSTART:20240331T010000
END:DAYLIGHT
BEGIN:STANDARD
TZOFFSETFROM:+0200
TZOFFSETTO:+0100
TZNAME:CET
DTSTART:20241027T010000
END:STANDARD
END:VTIMEZONE
BEGIN:VEVENT
DTSTART;TZID=Europe/Paris:20230211T090000
DTEND;TZID=Europe/Paris:20230211T110000
DTSTAMP:20260421T133131
CREATED:20230111T135316Z
LAST-MODIFIED:20230324T140536Z
UID:202-1676106000-1676113200@www.sadapi25.fr
SUMMARY:Ouverture du point de vente
DESCRIPTION:Vente de matériel apicole. Passer vos commandes au préalable
URL:https://www.sadapi25.fr/evenement/ouverture-du-point-de-vente-2/
LOCATION:Maison de l’apiculture\, 90 Chemin des Montarmots\, Besançon\, 25000\, France
CATEGORIES:Point de vente
END:VEVENT
BEGIN:VEVENT
DTSTART;TZID=Europe/Paris:20230225T140000
DTEND;TZID=Europe/Paris:20230225T170000
DTSTAMP:20260421T133131
CREATED:20230111T135703Z
LAST-MODIFIED:20230324T140525Z
UID:204-1677333600-1677344400@www.sadapi25.fr
SUMMARY:Cours apiculture débutant #3
DESCRIPTION:Evolution de la ruche au fil du temps\, utilisation de la Dadant 10 cadres– La sécurité de la ruche et de l’apiculteur (habillement\, santé)– Outillage de l’apiculteurAnimateur J.P BRAYER – support : G VAUTHENY
URL:https://www.sadapi25.fr/evenement/cours-apiculture-debutant-3/
LOCATION:Maison de l’apiculture\, 90 Chemin des Montarmots\, Besançon\, 25000\, France
CATEGORIES:Cours débutant
END:VEVENT
END:VCALENDAR