BEGIN:VCALENDAR
VERSION:2.0
PRODID:-//Syndicat apicole du Doubs - ECPv6.15.20//NONSGML v1.0//EN
CALSCALE:GREGORIAN
METHOD:PUBLISH
X-WR-CALNAME:Syndicat apicole du Doubs
X-ORIGINAL-URL:https://www.sadapi25.fr
X-WR-CALDESC:Évènements pour Syndicat apicole du Doubs
REFRESH-INTERVAL;VALUE=DURATION:PT1H
X-Robots-Tag:noindex
X-PUBLISHED-TTL:PT1H
BEGIN:VTIMEZONE
TZID:Europe/Paris
BEGIN:DAYLIGHT
TZOFFSETFROM:+0100
TZOFFSETTO:+0200
TZNAME:CEST
DTSTART:20220327T010000
END:DAYLIGHT
BEGIN:STANDARD
TZOFFSETFROM:+0200
TZOFFSETTO:+0100
TZNAME:CET
DTSTART:20221030T010000
END:STANDARD
BEGIN:DAYLIGHT
TZOFFSETFROM:+0100
TZOFFSETTO:+0200
TZNAME:CEST
DTSTART:20230326T010000
END:DAYLIGHT
BEGIN:STANDARD
TZOFFSETFROM:+0200
TZOFFSETTO:+0100
TZNAME:CET
DTSTART:20231029T010000
END:STANDARD
BEGIN:DAYLIGHT
TZOFFSETFROM:+0100
TZOFFSETTO:+0200
TZNAME:CEST
DTSTART:20240331T010000
END:DAYLIGHT
BEGIN:STANDARD
TZOFFSETFROM:+0200
TZOFFSETTO:+0100
TZNAME:CET
DTSTART:20241027T010000
END:STANDARD
END:VTIMEZONE
BEGIN:VEVENT
DTSTART;TZID=Europe/Paris:20230311T090000
DTEND;TZID=Europe/Paris:20230311T110000
DTSTAMP:20260421T120103
CREATED:20230206T165152Z
LAST-MODIFIED:20230324T140359Z
UID:358-1678525200-1678532400@www.sadapi25.fr
SUMMARY:Ouverture du point de vente
DESCRIPTION:Vente de matériel apicole. Passer vos commandes au préalable
URL:https://www.sadapi25.fr/evenement/ouverture-du-point-de-vente-3/
LOCATION:Maison de l’apiculture\, 90 Chemin des Montarmots\, Besançon\, 25000\, France
CATEGORIES:Point de vente
END:VEVENT
BEGIN:VEVENT
DTSTART;TZID=Europe/Paris:20230311T090000
DTEND;TZID=Europe/Paris:20230311T170000
DTSTAMP:20260421T120103
CREATED:20230206T171324Z
LAST-MODIFIED:20230324T140244Z
UID:377-1678525200-1678554000@www.sadapi25.fr
SUMMARY:Cours apiculture débutant #4
DESCRIPTION:Journée spéciale : \n\n\n\n\nde 9h à 12h.– Préparation du matériel (cadres\, hausses …) en vue d’une saison apicole.Michel MESNIER\, Alain PICARD\, Bernard TAVERDET\, Jean-Bernard ARBEZ\, Gérard SIMPLOT\, Martine EHRET\, Daniel JOURNOT\, support G VAUTHENY.\n\n\n\n12 h : repas tiré du panier\n\n\n\n14h à 17h.– L’abeille sentinelle de l’environnement. (D CRETIN)– Calendrier des travaux apicoles : visite de printemps essaimage\, stimulation-divisions pose de hausses\, récolte\, transhumance\, hivernage\, flore mellifère (Alain PICARD et Guy RENAUD).– L’apiculture biologique.– L’apiculture pro.– Prédateurs\, maladies des abeilles et du couvain (Gérard SIMPLOT).Support : G VAUTHENY.
URL:https://www.sadapi25.fr/evenement/cours-apiculture-debutant-4/
LOCATION:Maison de l’apiculture\, 90 Chemin des Montarmots\, Besançon\, 25000\, France
CATEGORIES:Cours débutant
END:VEVENT
BEGIN:VEVENT
DTSTART;TZID=Europe/Paris:20230318T093000
DTEND;TZID=Europe/Paris:20230318T120000
DTSTAMP:20260421T120103
CREATED:20230308T170558Z
LAST-MODIFIED:20230308T170848Z
UID:402-1679131800-1679140800@www.sadapi25.fr
SUMMARY:Assemblée générale du syndicat apicole
DESCRIPTION:Le syndicat apicole invite ses adhérents à son assemblée générale qui se tiendra le samedi 18 mars de 9h30 à 12h à la salle socio-culturelle de l’Hopital du Grosbois. \n\n\n\nL’ordre du jour est le suivant: \n\n\n\n\nBilans 2022\n\n\n\nPerspectives 2023\n\n\n\nInterventions :\n\nPrésentation du traitement contre le varroa à l’acide oxalique\n\n\n\nPrésentation du nouveau site internet\n\n\n\nNouveautés : café apicole \, étiquetage CITEO\, vide-rucher\n\n\n\nEchanges et questions avec participants\, retour sur les problèmes dus à la pression du frelon asiatique cette saison\n\n\n\n\n\nTombola\n\n\n\nPot de l’amitié\n\n\n\nRepas à l’auberge de la Faye à Foucherans\n\n\n\n\nTélécharger l’ordre du jour complet et confirmez votre présence avant le 10 mars 2023.
URL:https://www.sadapi25.fr/evenement/assemblee-generale-du-syndicat-apicole/
END:VEVENT
BEGIN:VEVENT
DTSTART;TZID=Europe/Paris:20230325T140000
DTEND;TZID=Europe/Paris:20230325T170000
DTSTAMP:20260421T120103
CREATED:20230206T171601Z
LAST-MODIFIED:20230324T140229Z
UID:379-1679752800-1679763600@www.sadapi25.fr
SUMMARY:Cours apiculture débutant #5
DESCRIPTION:– Matériel de visite (outils de l’apiculteur). Protection\, sécurité et hygiène (vêtement\, comportements).– Observation d’une colonie\, ouverture d’une ruche\, visite de printemps :  décollement des cadres\, évaluation des réserves et de l’élevage.- Changement de cadres.– Plateau (observation\, nettoyage).- Comptage des Varroas.Animateurs Michel MESNIER\, Alain PICARD\, Bernard TAVERDET\, Jean-Bernard ARBEZ\, Gérard SIMPLOT\, Martine EHRET\, Daniel JOURNOT. \n\n\n\nLa vareuse ou combinaison avec voile de protection\, gants\, pantalon épais et chaussures montantes ou bottes sont indispensables pour les cours pratiques.
URL:https://www.sadapi25.fr/evenement/cours-apiculture-debutant-5/
LOCATION:Maison de l’apiculture\, 90 Chemin des Montarmots\, Besançon\, 25000\, France
CATEGORIES:Cours débutant
END:VEVENT
END:VCALENDAR