BEGIN:VCALENDAR
VERSION:2.0
PRODID:-//Syndicat apicole du Doubs - ECPv6.15.20//NONSGML v1.0//EN
CALSCALE:GREGORIAN
METHOD:PUBLISH
X-WR-CALNAME:Syndicat apicole du Doubs
X-ORIGINAL-URL:https://www.sadapi25.fr
X-WR-CALDESC:Évènements pour Syndicat apicole du Doubs
REFRESH-INTERVAL;VALUE=DURATION:PT1H
X-Robots-Tag:noindex
X-PUBLISHED-TTL:PT1H
BEGIN:VTIMEZONE
TZID:Europe/Paris
BEGIN:DAYLIGHT
TZOFFSETFROM:+0100
TZOFFSETTO:+0200
TZNAME:CEST
DTSTART:20220327T010000
END:DAYLIGHT
BEGIN:STANDARD
TZOFFSETFROM:+0200
TZOFFSETTO:+0100
TZNAME:CET
DTSTART:20221030T010000
END:STANDARD
BEGIN:DAYLIGHT
TZOFFSETFROM:+0100
TZOFFSETTO:+0200
TZNAME:CEST
DTSTART:20230326T010000
END:DAYLIGHT
BEGIN:STANDARD
TZOFFSETFROM:+0200
TZOFFSETTO:+0100
TZNAME:CET
DTSTART:20231029T010000
END:STANDARD
BEGIN:DAYLIGHT
TZOFFSETFROM:+0100
TZOFFSETTO:+0200
TZNAME:CEST
DTSTART:20240331T010000
END:DAYLIGHT
BEGIN:STANDARD
TZOFFSETFROM:+0200
TZOFFSETTO:+0100
TZNAME:CET
DTSTART:20241027T010000
END:STANDARD
END:VTIMEZONE
BEGIN:VEVENT
DTSTART;TZID=Europe/Paris:20230415T090000
DTEND;TZID=Europe/Paris:20230415T110000
DTSTAMP:20260421T102148
CREATED:20230206T165827Z
LAST-MODIFIED:20230324T140214Z
UID:364-1681549200-1681556400@www.sadapi25.fr
SUMMARY:Ouverture du point de vente
DESCRIPTION:Vente de matériel apicole. Passer vos commandes au préalable
URL:https://www.sadapi25.fr/evenement/ouverture-du-point-de-vente-4/
LOCATION:Maison de l’apiculture\, 90 Chemin des Montarmots\, Besançon\, 25000\, France
CATEGORIES:Point de vente
END:VEVENT
END:VCALENDAR