BEGIN:VCALENDAR
VERSION:2.0
PRODID:-//Syndicat apicole du Doubs - ECPv6.15.20//NONSGML v1.0//EN
CALSCALE:GREGORIAN
METHOD:PUBLISH
X-ORIGINAL-URL:https://www.sadapi25.fr
X-WR-CALDESC:Évènements pour Syndicat apicole du Doubs
REFRESH-INTERVAL;VALUE=DURATION:PT1H
X-Robots-Tag:noindex
X-PUBLISHED-TTL:PT1H
BEGIN:VTIMEZONE
TZID:Europe/Paris
BEGIN:DAYLIGHT
TZOFFSETFROM:+0100
TZOFFSETTO:+0200
TZNAME:CEST
DTSTART:20230326T010000
END:DAYLIGHT
BEGIN:STANDARD
TZOFFSETFROM:+0200
TZOFFSETTO:+0100
TZNAME:CET
DTSTART:20231029T010000
END:STANDARD
BEGIN:DAYLIGHT
TZOFFSETFROM:+0100
TZOFFSETTO:+0200
TZNAME:CEST
DTSTART:20240331T010000
END:DAYLIGHT
BEGIN:STANDARD
TZOFFSETFROM:+0200
TZOFFSETTO:+0100
TZNAME:CET
DTSTART:20241027T010000
END:STANDARD
BEGIN:DAYLIGHT
TZOFFSETFROM:+0100
TZOFFSETTO:+0200
TZNAME:CEST
DTSTART:20250330T010000
END:DAYLIGHT
BEGIN:STANDARD
TZOFFSETFROM:+0200
TZOFFSETTO:+0100
TZNAME:CET
DTSTART:20251026T010000
END:STANDARD
END:VTIMEZONE
BEGIN:VEVENT
DTSTART;TZID=Europe/Paris:20240203T090000
DTEND;TZID=Europe/Paris:20240203T110000
DTSTAMP:20260420T180940
CREATED:20231012T171900Z
LAST-MODIFIED:20240202T201745Z
UID:1060-1706950800-1706958000@www.sadapi25.fr
SUMMARY:Ouverture du point de vente et café apicole
DESCRIPTION:Vente de matériel apicole. Passer vos commandes au préalable. \n\n\n\nVous pourrez rencontrer des apiculteurs du syndicat apicole et échanger avec eux sur vos pratiques. Le café est offert.
URL:https://www.sadapi25.fr/evenement/ouverture-du-point-de-vente-14/
LOCATION:Maison de l’apiculture\, 90 Chemin des Montarmots\, Besançon\, 25000\, France
CATEGORIES:Point de vente
END:VEVENT
BEGIN:VEVENT
DTSTART;TZID=Europe/Paris:20240210T140000
DTEND;TZID=Europe/Paris:20240210T170000
DTSTAMP:20260420T180940
CREATED:20240112T154821Z
LAST-MODIFIED:20240112T154822Z
UID:1168-1707573600-1707584400@www.sadapi25.fr
SUMMARY:Cours apiculteur débutant #3
DESCRIPTION:Programme :– Evolution de la ruche au fil du temps\, utilisation de la Dadant 10 cadres– La sécurité de la ruche et de l’apiculteur (habillement\, santé)– Outillage de l’apiculteur– Le frelon asiatique\, piégeage des fondatrices.Animateurs : J.P BRAYER\, J-Bernard ARBEZ– support : G VAUTHENY
URL:https://www.sadapi25.fr/evenement/cours-apiculteur-debutant-3/
LOCATION:Maison de l’apiculture\, 90 Chemin des Montarmots\, Besançon\, 25000\, France
CATEGORIES:Cours débutant
END:VEVENT
BEGIN:VEVENT
DTSTART;TZID=Europe/Paris:20240217T090000
DTEND;TZID=Europe/Paris:20240217T120000
DTSTAMP:20260420T180940
CREATED:20231129T181205Z
LAST-MODIFIED:20240202T200640Z
UID:1138-1708160400-1708171200@www.sadapi25.fr
SUMMARY:AG du syndicat apicole
DESCRIPTION:Voir l’ordre du jour
URL:https://www.sadapi25.fr/evenement/ag-du-syndicat/
LOCATION:Salle Guinemard\, Saône\, 1 rue de la Glacière\, Saône\, 25660\, France
END:VEVENT
END:VCALENDAR