BEGIN:VCALENDAR
VERSION:2.0
PRODID:-//Syndicat apicole du Doubs - ECPv6.15.20//NONSGML v1.0//EN
CALSCALE:GREGORIAN
METHOD:PUBLISH
X-ORIGINAL-URL:https://www.sadapi25.fr
X-WR-CALDESC:Évènements pour Syndicat apicole du Doubs
REFRESH-INTERVAL;VALUE=DURATION:PT1H
X-Robots-Tag:noindex
X-PUBLISHED-TTL:PT1H
BEGIN:VTIMEZONE
TZID:Europe/Paris
BEGIN:DAYLIGHT
TZOFFSETFROM:+0100
TZOFFSETTO:+0200
TZNAME:CEST
DTSTART:20230326T010000
END:DAYLIGHT
BEGIN:STANDARD
TZOFFSETFROM:+0200
TZOFFSETTO:+0100
TZNAME:CET
DTSTART:20231029T010000
END:STANDARD
BEGIN:DAYLIGHT
TZOFFSETFROM:+0100
TZOFFSETTO:+0200
TZNAME:CEST
DTSTART:20240331T010000
END:DAYLIGHT
BEGIN:STANDARD
TZOFFSETFROM:+0200
TZOFFSETTO:+0100
TZNAME:CET
DTSTART:20241027T010000
END:STANDARD
BEGIN:DAYLIGHT
TZOFFSETFROM:+0100
TZOFFSETTO:+0200
TZNAME:CEST
DTSTART:20250330T010000
END:DAYLIGHT
BEGIN:STANDARD
TZOFFSETFROM:+0200
TZOFFSETTO:+0100
TZNAME:CET
DTSTART:20251026T010000
END:STANDARD
END:VTIMEZONE
BEGIN:VEVENT
DTSTART;TZID=Europe/Paris:20240302T090000
DTEND;TZID=Europe/Paris:20240302T110000
DTSTAMP:20260420T163556
CREATED:20231012T171956Z
LAST-MODIFIED:20240222T131852Z
UID:1062-1709370000-1709377200@www.sadapi25.fr
SUMMARY:Ouverture du point de vente
DESCRIPTION:Vente de matériel apicole. Passer vos commandes au préalable.Nouveautés en vente : des pièges à frelon asiatique bouchon TO82 de Domapi\, des ruches et la ruchettes de Thomas apiculture et des combinaisons de protection avec chapeau ou cagoule
URL:https://www.sadapi25.fr/evenement/ouverture-du-point-de-vente-15/
LOCATION:Maison de l’apiculture\, 90 Chemin des Montarmots\, Besançon\, 25000\, France
CATEGORIES:Point de vente
END:VEVENT
BEGIN:VEVENT
DTSTART;TZID=Europe/Paris:20240309T090000
DTEND;TZID=Europe/Paris:20240309T170000
DTSTAMP:20260420T163556
CREATED:20240112T155059Z
LAST-MODIFIED:20240112T155100Z
UID:1170-1709974800-1710003600@www.sadapi25.fr
SUMMARY:Cours apiculteur débutant #4
DESCRIPTION:Journée spéciale : \n\n\n\n\nde 9h à 12h.– Préparation du matériel (cadres\, hausses …) en vue d’une saison apicole.Michel MESNIER\, Alain PICARD\, Bernard TAVERDET\, Jean-Bernard ARBEZ\, Gérard SIMPLOT\, Martine EHRET\, support G VAUTHENY.\n\n\n\n12 h : repas tiré du panier\n\n\n\n14h à 17h.– Calendrier des travaux apicoles : visite de printemps\, essaimage\, stimulation\, divisions\, pose de hausses\, récolte\, transhumance\, hivernage\, flore mellifère (Alain PICARD et Guy RENAUD).– L’apiculture biologique.– L’apiculture pro.– Prédateurs\, maladies des abeilles et du couvain (Gérard SIMPLOT).Support : G VAUTHENY.
URL:https://www.sadapi25.fr/evenement/cours-apiculteur-debutant-4/
LOCATION:Maison de l’apiculture\, 90 Chemin des Montarmots\, Besançon\, 25000\, France
CATEGORIES:Cours débutant
END:VEVENT
BEGIN:VEVENT
DTSTART;TZID=Europe/Paris:20240316T090000
DTEND;TZID=Europe/Paris:20240316T120000
DTSTAMP:20260420T163556
CREATED:20240311T083913Z
LAST-MODIFIED:20240311T083914Z
UID:1312-1710579600-1710590400@www.sadapi25.fr
SUMMARY:Réunion des référents frelon asiatique
DESCRIPTION:Point sur le piégeage de printemps et votre rôle auprès des mairies ou des particuliers
URL:https://www.sadapi25.fr/evenement/reunion-des-referents-frelon-asiatique/
LOCATION:Maison de l’apiculture\, 90 Chemin des Montarmots\, Besançon\, 25000\, France
END:VEVENT
END:VCALENDAR