BEGIN:VCALENDAR
VERSION:2.0
PRODID:-//Syndicat apicole du Doubs - ECPv6.15.20//NONSGML v1.0//EN
CALSCALE:GREGORIAN
METHOD:PUBLISH
X-ORIGINAL-URL:https://www.sadapi25.fr
X-WR-CALDESC:Évènements pour Syndicat apicole du Doubs
REFRESH-INTERVAL;VALUE=DURATION:PT1H
X-Robots-Tag:noindex
X-PUBLISHED-TTL:PT1H
BEGIN:VTIMEZONE
TZID:Europe/Paris
BEGIN:DAYLIGHT
TZOFFSETFROM:+0100
TZOFFSETTO:+0200
TZNAME:CEST
DTSTART:20230326T010000
END:DAYLIGHT
BEGIN:STANDARD
TZOFFSETFROM:+0200
TZOFFSETTO:+0100
TZNAME:CET
DTSTART:20231029T010000
END:STANDARD
BEGIN:DAYLIGHT
TZOFFSETFROM:+0100
TZOFFSETTO:+0200
TZNAME:CEST
DTSTART:20240331T010000
END:DAYLIGHT
BEGIN:STANDARD
TZOFFSETFROM:+0200
TZOFFSETTO:+0100
TZNAME:CET
DTSTART:20241027T010000
END:STANDARD
BEGIN:DAYLIGHT
TZOFFSETFROM:+0100
TZOFFSETTO:+0200
TZNAME:CEST
DTSTART:20250330T010000
END:DAYLIGHT
BEGIN:STANDARD
TZOFFSETFROM:+0200
TZOFFSETTO:+0100
TZNAME:CET
DTSTART:20251026T010000
END:STANDARD
END:VTIMEZONE
BEGIN:VEVENT
DTSTART;TZID=Europe/Paris:20240406T090000
DTEND;TZID=Europe/Paris:20240406T120000
DTSTAMP:20260420T150827
CREATED:20230310T195015Z
LAST-MODIFIED:20240212T174137Z
UID:420-1712394000-1712404800@www.sadapi25.fr
SUMMARY:Vide rucher
DESCRIPTION:Vente de matériel d’apiculture d’occasion
URL:https://www.sadapi25.fr/evenement/vide-rucher/
LOCATION:Maison de l’apiculture\, 90 Chemin des Montarmots\, Besançon\, 25000\, France
CATEGORIES:Animation
END:VEVENT
BEGIN:VEVENT
DTSTART;TZID=Europe/Paris:20240406T140000
DTEND;TZID=Europe/Paris:20240406T170000
DTSTAMP:20260420T150827
CREATED:20240112T155315Z
LAST-MODIFIED:20240112T155316Z
UID:1172-1712412000-1712422800@www.sadapi25.fr
SUMMARY:Cours apiculteur débutant #5
DESCRIPTION:Programme :– Matériel de visite (outils de l’apiculteur). Protection\, sécurité et hygiène (vêtement\, comportements).– Observation d’une colonie\, ouverture d’une ruche\, visite de printemps : décollement des cadres\, évaluation des réserves et de l’élevage.– Changement de cadres.– Plateau (observation\, nettoyage).Animateurs : Michel MESNIER\, Alain PICARD\, Bernard TAVERDET\, Jean-Bernard ARBEZ\, Gérard SIMPLOT\, Martine EHRET.
URL:https://www.sadapi25.fr/evenement/cours-apiculteur-debutant-5/
LOCATION:Maison de l’apiculture\, 90 Chemin des Montarmots\, Besançon\, 25000\, France
CATEGORIES:Cours débutant
END:VEVENT
BEGIN:VEVENT
DTSTART;TZID=Europe/Paris:20240413T090000
DTEND;TZID=Europe/Paris:20240413T110000
DTSTAMP:20260420T150827
CREATED:20231012T172053Z
LAST-MODIFIED:20240403T125910Z
UID:1064-1712998800-1713006000@www.sadapi25.fr
SUMMARY:Ouverture du point de vente et café apicole
DESCRIPTION:Vente de matériel apicole. Passer vos commandes au préalable
URL:https://www.sadapi25.fr/evenement/ouverture-du-point-de-vente-16/
LOCATION:Maison de l’apiculture\, 90 Chemin des Montarmots\, Besançon\, 25000\, France
CATEGORIES:Point de vente
END:VEVENT
BEGIN:VEVENT
DTSTART;TZID=Europe/Paris:20240420T100000
DTEND;TZID=Europe/Paris:20240420T180000
DTSTAMP:20260420T150827
CREATED:20230320T143342Z
LAST-MODIFIED:20240212T174306Z
UID:521-1713607200-1713636000@www.sadapi25.fr
SUMMARY:Plantes en fête
DESCRIPTION:Plantes en fête au lycée agricole
URL:https://www.sadapi25.fr/evenement/plantes-en-fete/
LOCATION:Centre de formation de Chateaufarine\, 10 rue François Villon\, Besançon\, 25000\, France
CATEGORIES:Animation,Grand-public
END:VEVENT
BEGIN:VEVENT
DTSTART;TZID=Europe/Paris:20240421T100000
DTEND;TZID=Europe/Paris:20240421T180000
DTSTAMP:20260420T150827
CREATED:20230320T143530Z
LAST-MODIFIED:20240212T174342Z
UID:525-1713693600-1713722400@www.sadapi25.fr
SUMMARY:Plantes en fête
DESCRIPTION:Plantes en fête au lycée agricole
URL:https://www.sadapi25.fr/evenement/plantes-en-fete-2/
LOCATION:Centre de formation de Chateaufarine\, 10 rue François Villon\, Besançon\, 25000\, France
CATEGORIES:Animation,Grand-public
END:VEVENT
END:VCALENDAR